BEGIN:VCALENDAR
VERSION:2.0
PRODID:-//wp-events-plugin.com//7.2.3.1//EN
TZID:America/Bogota
X-WR-TIMEZONE:America/Bogota
BEGIN:VEVENT
UID:0-1@fenavi.org
DTSTART;TZID=America/Bogota:20260901T000000
DTEND;TZID=America/Bogota:20260903T000000
DTSTAMP:20250930T210131Z
URL:https://fenavi.org/events/xxii-congreso-fenavi-1-al-3-de-septiembre-de
 -2026/
SUMMARY:XXII CONGRESO FENAVI – 1 al 3 de septiembre de 2026
DESCRIPTION:
CATEGORIES:Eventos
END:VEVENT
BEGIN:VTIMEZONE
TZID:America/Bogota
X-LIC-LOCATION:America/Bogota
BEGIN:STANDARD
DTSTART:20250901T000000
TZOFFSETFROM:-0500
TZOFFSETTO:-0500
TZNAME:-05
END:STANDARD
END:VTIMEZONE
END:VCALENDAR